BEGIN:VCALENDAR
VERSION:2.0
PRODID:-//Texas DITEP and FRIDAY - ECPv6.15.20//NONSGML v1.0//EN
CALSCALE:GREGORIAN
METHOD:PUBLISH
X-ORIGINAL-URL:https://texasfriday.org
X-WR-CALDESC:Events for Texas DITEP and FRIDAY
REFRESH-INTERVAL;VALUE=DURATION:PT1H
X-Robots-Tag:noindex
X-PUBLISHED-TTL:PT1H
BEGIN:VTIMEZONE
TZID:America/Chicago
BEGIN:DAYLIGHT
TZOFFSETFROM:-0600
TZOFFSETTO:-0500
TZNAME:CDT
DTSTART:20200308T080000
END:DAYLIGHT
BEGIN:STANDARD
TZOFFSETFROM:-0500
TZOFFSETTO:-0600
TZNAME:CST
DTSTART:20201101T070000
END:STANDARD
BEGIN:DAYLIGHT
TZOFFSETFROM:-0600
TZOFFSETTO:-0500
TZNAME:CDT
DTSTART:20210314T080000
END:DAYLIGHT
BEGIN:STANDARD
TZOFFSETFROM:-0500
TZOFFSETTO:-0600
TZNAME:CST
DTSTART:20211107T070000
END:STANDARD
BEGIN:DAYLIGHT
TZOFFSETFROM:-0600
TZOFFSETTO:-0500
TZNAME:CDT
DTSTART:20220313T080000
END:DAYLIGHT
BEGIN:STANDARD
TZOFFSETFROM:-0500
TZOFFSETTO:-0600
TZNAME:CST
DTSTART:20221106T070000
END:STANDARD
END:VTIMEZONE
BEGIN:VEVENT
DTSTART;TZID=America/Chicago:20210604T080000
DTEND;TZID=America/Chicago:20210604T170000
DTSTAMP:20260420T120127
CREATED:20210503T144233Z
LAST-MODIFIED:20210503T144233Z
UID:10000416-1622793600-1622826000@texasfriday.org
SUMMARY:Cancelled - FRIDAY - South Padre Island
DESCRIPTION:The FRIDAY program is specifically designed to serve as continuing education for law enforcement officers. This 8 hour class includes topics such as the Alcoholic Beverage Code\, Alcohol’s Effect on Brain Development\, and Investigative Techniques/Enforcement Options related to underage drinking and underage impaired driving. Officers who successfully complete the course will receive 8 hours of TCOLE credit (#6017).\nFor more information about the course or instructor\, please visit our website. If registration deadline has passed or the class is full and you are interested in attending\, please call 800-848-2088 x 207.
URL:https://texasfriday.org/event/friday-south-padre-island/
LOCATION:South Padre Island Community Center\, 4501 Padre Blvd.\, South Padre Island\, TX\, 78597\, United States
ORGANIZER;CN="Richard Bryan":MAILTO:bhpd608@yahoo.com
GEO:26.1182415;-97.1703977
X-APPLE-STRUCTURED-LOCATION;VALUE=URI;X-ADDRESS=South Padre Island Community Center 4501 Padre Blvd. South Padre Island TX 78597 United States;X-APPLE-RADIUS=500;X-TITLE=4501 Padre Blvd.:geo:-97.1703977,26.1182415
END:VEVENT
END:VCALENDAR