BEGIN:VCALENDAR
VERSION:2.0
PRODID:-//Texas DITEP and FRIDAY - ECPv6.15.20//NONSGML v1.0//EN
CALSCALE:GREGORIAN
METHOD:PUBLISH
X-WR-CALNAME:Texas DITEP and FRIDAY
X-ORIGINAL-URL:https://texasfriday.org
X-WR-CALDESC:Events for Texas DITEP and FRIDAY
REFRESH-INTERVAL;VALUE=DURATION:PT1H
X-Robots-Tag:noindex
X-PUBLISHED-TTL:PT1H
BEGIN:VTIMEZONE
TZID:America/Chicago
BEGIN:DAYLIGHT
TZOFFSETFROM:-0600
TZOFFSETTO:-0500
TZNAME:CDT
DTSTART:20210314T080000
END:DAYLIGHT
BEGIN:STANDARD
TZOFFSETFROM:-0500
TZOFFSETTO:-0600
TZNAME:CST
DTSTART:20211107T070000
END:STANDARD
BEGIN:DAYLIGHT
TZOFFSETFROM:-0600
TZOFFSETTO:-0500
TZNAME:CDT
DTSTART:20220313T080000
END:DAYLIGHT
BEGIN:STANDARD
TZOFFSETFROM:-0500
TZOFFSETTO:-0600
TZNAME:CST
DTSTART:20221106T070000
END:STANDARD
BEGIN:DAYLIGHT
TZOFFSETFROM:-0600
TZOFFSETTO:-0500
TZNAME:CDT
DTSTART:20230312T080000
END:DAYLIGHT
BEGIN:STANDARD
TZOFFSETFROM:-0500
TZOFFSETTO:-0600
TZNAME:CST
DTSTART:20231105T070000
END:STANDARD
END:VTIMEZONE
BEGIN:VEVENT
DTSTART;TZID=America/Chicago:20220325T080000
DTEND;TZID=America/Chicago:20220325T170000
DTSTAMP:20260424T120626
CREATED:20220128T170926Z
LAST-MODIFIED:20220303T213326Z
UID:10000493-1648195200-1648227600@texasfriday.org
SUMMARY:FRIDAY - Waco
DESCRIPTION:The FRIDAY program is specifically designed to serve as continuing education for law enforcement officers. This 8 hour class includes topics such as the Alcoholic Beverage Code\, Alcohol’s Effect on Brain Development\, and Investigative Techniques/Enforcement Options related to underage drinking and underage impaired driving. Officers who successfully complete the course will receive 8 hours of TCOLE credit (#6017). \nFor more information about the course or instructor\, please visit our website. If registration deadline has passed or the class is full and you are interested in attending\, please call 800-848-2088 x 207.
URL:https://texasfriday.org/event/friday-waco-2/
LOCATION:McLennan Community College-Emergency Services Education Center\, 7601 Steinbeck Bend DR #235\, Waco\, TX\, 76708\, United States
ORGANIZER;CN="Tamara Spencer":MAILTO:Tamara.Spencer@texasfriday.org
GEO:31.6020131;-97.2133609
X-APPLE-STRUCTURED-LOCATION;VALUE=URI;X-ADDRESS=McLennan Community College-Emergency Services Education Center 7601 Steinbeck Bend DR #235 Waco TX 76708 United States;X-APPLE-RADIUS=500;X-TITLE=7601 Steinbeck Bend DR #235:geo:-97.2133609,31.6020131
END:VEVENT
BEGIN:VEVENT
DTSTART;TZID=America/Chicago:20220324T080000
DTEND;TZID=America/Chicago:20220324T170000
DTSTAMP:20260424T120626
CREATED:20220128T170751Z
LAST-MODIFIED:20220318T145714Z
UID:10000683-1648108800-1648141200@texasfriday.org
SUMMARY:FRIDAY - Waco
DESCRIPTION:The FRIDAY program is specifically designed to serve as continuing education for law enforcement officers. This 8 hour class includes topics such as the Alcoholic Beverage Code\, Alcohol’s Effect on Brain Development\, and Investigative Techniques/Enforcement Options related to underage drinking and underage impaired driving. Officers who successfully complete the course will receive 8 hours of TCOLE credit (#6017). \nFor more information about the course or instructor\, please visit our website. If registration deadline has passed or the class is full and you are interested in attending\, please call 800-848-2088 x 207. CLASS CANCELLED.
URL:https://texasfriday.org/event/friday-waco/
LOCATION:McLennan Community College-Emergency Services Education Center\, 7601 Steinbeck Bend DR #235\, Waco\, TX\, 76708\, United States
ORGANIZER;CN="Tamara Spencer":MAILTO:Tamara.Spencer@texasfriday.org
GEO:31.6020131;-97.2133609
X-APPLE-STRUCTURED-LOCATION;VALUE=URI;X-ADDRESS=McLennan Community College-Emergency Services Education Center 7601 Steinbeck Bend DR #235 Waco TX 76708 United States;X-APPLE-RADIUS=500;X-TITLE=7601 Steinbeck Bend DR #235:geo:-97.2133609,31.6020131
END:VEVENT
END:VCALENDAR