BEGIN:VCALENDAR
VERSION:2.0
PRODID:-//Texas DITEP and FRIDAY - ECPv6.15.20//NONSGML v1.0//EN
CALSCALE:GREGORIAN
METHOD:PUBLISH
X-ORIGINAL-URL:https://texasfriday.org
X-WR-CALDESC:Events for Texas DITEP and FRIDAY
REFRESH-INTERVAL;VALUE=DURATION:PT1H
X-Robots-Tag:noindex
X-PUBLISHED-TTL:PT1H
BEGIN:VTIMEZONE
TZID:America/Chicago
BEGIN:DAYLIGHT
TZOFFSETFROM:-0600
TZOFFSETTO:-0500
TZNAME:CDT
DTSTART:20220313T080000
END:DAYLIGHT
BEGIN:STANDARD
TZOFFSETFROM:-0500
TZOFFSETTO:-0600
TZNAME:CST
DTSTART:20221106T070000
END:STANDARD
BEGIN:DAYLIGHT
TZOFFSETFROM:-0600
TZOFFSETTO:-0500
TZNAME:CDT
DTSTART:20230312T080000
END:DAYLIGHT
BEGIN:STANDARD
TZOFFSETFROM:-0500
TZOFFSETTO:-0600
TZNAME:CST
DTSTART:20231105T070000
END:STANDARD
BEGIN:DAYLIGHT
TZOFFSETFROM:-0600
TZOFFSETTO:-0500
TZNAME:CDT
DTSTART:20240310T080000
END:DAYLIGHT
BEGIN:STANDARD
TZOFFSETFROM:-0500
TZOFFSETTO:-0600
TZNAME:CST
DTSTART:20241103T070000
END:STANDARD
END:VTIMEZONE
BEGIN:VEVENT
DTSTART;TZID=America/Chicago:20230712T080000
DTEND;TZID=America/Chicago:20230713T170000
DTSTAMP:20260424T034931
CREATED:20230313T191115Z
LAST-MODIFIED:20230403T203053Z
UID:10000758-1689148800-1689267600@texasfriday.org
SUMMARY:DITEP (2-Day Training) - Kountze CANCELLED
DESCRIPTION:AS OF 04/03/2023 THIS CLASS HAS BEEN CANCELLED\, BUT WILL BE RESCHEDULED. The DITEP program is designed primarily for administrators\, teachers\, school resource officers\, counselors\, nurses and education trainers in the academic setting.   This FREE two-day class will provide school personnel detailed information on how to recognize impairment\, evaluate the individual\, and address that impairment with parents. Along with that information\, there will be hands-on training in how to administer the Horizontal Gaze Nystagmus\, Vertical Gaze Nystagmus\, and Lack of Convergence tests\, eye examinations\, Divided Attention Testing such as the Romberg Balance\, Walk and Turn\, One Leg Stand\, and Finger to Nose tests\, and using a person’s vital signs to provide information about the presence or absence of various categories of drugs. \nFor more information about the course or instructor\, please visit our website. If the registration deadline has passed or the class is full and you are interested in attending\, please call 800-848-2088 x 207.
URL:https://texasfriday.org/event/ditep-2-day-training-kountze/
LOCATION:Kountze High School Library\, 1488 FM 1293\, Kountze\, TX\, 77625\, United States
ORGANIZER;CN="FRIDAY Staff":MAILTO:info@texasfriday.org
GEO:30.3751325;-94.3335559
X-APPLE-STRUCTURED-LOCATION;VALUE=URI;X-ADDRESS=Kountze High School Library 1488 FM 1293 Kountze TX 77625 United States;X-APPLE-RADIUS=500;X-TITLE=1488 FM 1293:geo:-94.3335559,30.3751325
END:VEVENT
END:VCALENDAR