BEGIN:VCALENDAR
VERSION:2.0
PRODID:-//Texas DITEP and FRIDAY - ECPv6.15.20//NONSGML v1.0//EN
CALSCALE:GREGORIAN
METHOD:PUBLISH
X-ORIGINAL-URL:https://texasfriday.org
X-WR-CALDESC:Events for Texas DITEP and FRIDAY
REFRESH-INTERVAL;VALUE=DURATION:PT1H
X-Robots-Tag:noindex
X-PUBLISHED-TTL:PT1H
BEGIN:VTIMEZONE
TZID:America/Chicago
BEGIN:DAYLIGHT
TZOFFSETFROM:-0600
TZOFFSETTO:-0500
TZNAME:CDT
DTSTART:20210314T080000
END:DAYLIGHT
BEGIN:STANDARD
TZOFFSETFROM:-0500
TZOFFSETTO:-0600
TZNAME:CST
DTSTART:20211107T070000
END:STANDARD
BEGIN:DAYLIGHT
TZOFFSETFROM:-0600
TZOFFSETTO:-0500
TZNAME:CDT
DTSTART:20220313T080000
END:DAYLIGHT
BEGIN:STANDARD
TZOFFSETFROM:-0500
TZOFFSETTO:-0600
TZNAME:CST
DTSTART:20221106T070000
END:STANDARD
BEGIN:DAYLIGHT
TZOFFSETFROM:-0600
TZOFFSETTO:-0500
TZNAME:CDT
DTSTART:20230312T080000
END:DAYLIGHT
BEGIN:STANDARD
TZOFFSETFROM:-0500
TZOFFSETTO:-0600
TZNAME:CST
DTSTART:20231105T070000
END:STANDARD
END:VTIMEZONE
BEGIN:VEVENT
DTSTART;TZID=America/Chicago:20220622T080000
DTEND;TZID=America/Chicago:20220623T170000
DTSTAMP:20260425T053741
CREATED:20220502T190536Z
LAST-MODIFIED:20220502T223602Z
UID:10000522-1655884800-1656003600@texasfriday.org
SUMMARY:DITEP - New Braunfels (2-Day Training)
DESCRIPTION:The DITEP program is designed primarily for administrators\, teachers\, school resource officers\, counselors\, nurses and education trainers in the academic setting.   This FREE two-day class will provide school personnel detailed information on how to recognize impairment\, evaluate the individual\, and address that impairment with parents. Along with that information\, there will be hands-on training in how to administer the Horizontal Gaze Nystagmus\, Vertical Gaze Nystagmus\, and Lack of Convergence tests\, eye examinations\, Divided Attention Testing such as the Romberg Balance\, Walk and Turn\, One Leg Stand\, and Finger to Nose tests\, and using a person’s vital signs to provide information about the presence or absence of various categories of drugs. \nFor more information about the course or instructor\, please visit our website. If registration deadline has passed or the class is full and you are interested in attending\, please call 800-848-2088 x 207.
URL:https://texasfriday.org/event/ditep-new-braunfels-2-day-training/
LOCATION:Canyon Middle School Library\, 2014 FM 1101\, New Braunfels\, TX\, 78130\, United States
ORGANIZER;CN="Mark Busbee":MAILTO:Mark.Busbee@texasfriday.org
GEO:29.7115774;-98.0728869
X-APPLE-STRUCTURED-LOCATION;VALUE=URI;X-ADDRESS=Canyon Middle School Library 2014 FM 1101 New Braunfels TX 78130 United States;X-APPLE-RADIUS=500;X-TITLE=2014 FM 1101:geo:-98.0728869,29.7115774
END:VEVENT
END:VCALENDAR