BEGIN:VCALENDAR
VERSION:2.0
PRODID:-//Texas DITEP and FRIDAY - ECPv6.15.20//NONSGML v1.0//EN
CALSCALE:GREGORIAN
METHOD:PUBLISH
X-WR-CALNAME:Texas DITEP and FRIDAY
X-ORIGINAL-URL:https://texasfriday.org
X-WR-CALDESC:Events for Texas DITEP and FRIDAY
REFRESH-INTERVAL;VALUE=DURATION:PT1H
X-Robots-Tag:noindex
X-PUBLISHED-TTL:PT1H
BEGIN:VTIMEZONE
TZID:America/Chicago
BEGIN:DAYLIGHT
TZOFFSETFROM:-0600
TZOFFSETTO:-0500
TZNAME:CDT
DTSTART:20230312T080000
END:DAYLIGHT
BEGIN:STANDARD
TZOFFSETFROM:-0500
TZOFFSETTO:-0600
TZNAME:CST
DTSTART:20231105T070000
END:STANDARD
BEGIN:DAYLIGHT
TZOFFSETFROM:-0600
TZOFFSETTO:-0500
TZNAME:CDT
DTSTART:20240310T080000
END:DAYLIGHT
BEGIN:STANDARD
TZOFFSETFROM:-0500
TZOFFSETTO:-0600
TZNAME:CST
DTSTART:20241103T070000
END:STANDARD
BEGIN:DAYLIGHT
TZOFFSETFROM:-0600
TZOFFSETTO:-0500
TZNAME:CDT
DTSTART:20250309T080000
END:DAYLIGHT
BEGIN:STANDARD
TZOFFSETFROM:-0500
TZOFFSETTO:-0600
TZNAME:CST
DTSTART:20251102T070000
END:STANDARD
END:VTIMEZONE
BEGIN:VEVENT
DTSTART;TZID=America/Chicago:20240102T080000
DTEND;TZID=America/Chicago:20240102T170000
DTSTAMP:20260425T143556
CREATED:20230909T005424Z
LAST-MODIFIED:20231026T175213Z
UID:10000777-1704182400-1704214800@texasfriday.org
SUMMARY:DITEP-Cuero
DESCRIPTION:The DITEP program is designed primarily for administrators\, teachers\, school resource officers\, counselors\, nurses and education trainers in the academic setting.  This 8-hour course is meant for those who have previously attended the two-day training and need updated information and hands on practice with a DITEP trainer. \nFor more information about the course or instructor\, please visit our website. If the registration deadline has passed or the class is full and you are interested in attending\, please email us at info@texasfriday.org or call 800-848-2088 x 207. \n  \n  \n 
URL:https://texasfriday.org/event/ditep-cuero/
LOCATION:Cuero ISD Adminisration Building\, 960 East Broadway\, Cuero\, TX\, 77954\, United States
ORGANIZER;CN="FRIDAY Staff":MAILTO:info@texasfriday.org
GEO:29.0896412;-97.2788509
X-APPLE-STRUCTURED-LOCATION;VALUE=URI;X-ADDRESS=Cuero ISD Adminisration Building 960 East Broadway Cuero TX 77954 United States;X-APPLE-RADIUS=500;X-TITLE=960 East Broadway:geo:-97.2788509,29.0896412
END:VEVENT
BEGIN:VEVENT
DTSTART;TZID=America/Chicago:20240104T080000
DTEND;TZID=America/Chicago:20240104T170000
DTSTAMP:20260425T143556
CREATED:20230806T193344Z
LAST-MODIFIED:20231128T170610Z
UID:10000766-1704355200-1704387600@texasfriday.org
SUMMARY:DITEP - Rogers (CANCELLED)
DESCRIPTION:THIS CLASS HAS BEEN CANCELLED. The DITEP program is designed primarily for administrators\, teachers\, school resource officers\, counselors\, nurses and education trainers in the academic setting.  This 8-hour course is meant for those who have previously attended the two-day training and need updated information and hands on practice with a DITEP trainer. \nFor more information about the course or instructor\, please visit our website. If the registration deadline has passed or the class is full and you are interested in attending\, please email us at info@texasfriday.org or call 800-848-2088 x 207.
URL:https://texasfriday.org/event/ditep-rogers/
LOCATION:Rogers ISD – Rogers High School\, 1 Eagle Drive\, Rogers\, TX\, 76569\, United States
ORGANIZER;CN="Mark Busbee":MAILTO:Mark.Busbee@texasfriday.org
GEO:30.9295172;-97.2313076
X-APPLE-STRUCTURED-LOCATION;VALUE=URI;X-ADDRESS=Rogers ISD – Rogers High School 1 Eagle Drive Rogers TX 76569 United States;X-APPLE-RADIUS=500;X-TITLE=1 Eagle Drive:geo:-97.2313076,30.9295172
END:VEVENT
BEGIN:VEVENT
DTSTART;TZID=America/Chicago:20240109T080000
DTEND;TZID=America/Chicago:20240110T170000
DTSTAMP:20260425T143556
CREATED:20230928T144821Z
LAST-MODIFIED:20230928T144821Z
UID:10000779-1704787200-1704906000@texasfriday.org
SUMMARY:DITEP (2-Day Training) El Paso
DESCRIPTION:The DITEP program is designed primarily for administrators\, teachers\, school resource officers\, counselors\, nurses and education trainers in the academic setting.   This FREE two-day class will provide school personnel detailed information on how to recognize impairment\, evaluate the individual\, and address that impairment with parents. Along with that information\, there will be hands-on training in how to administer the Horizontal Gaze Nystagmus\, Vertical Gaze Nystagmus\, and Lack of Convergence tests\, eye examinations\, Divided Attention Testing such as the Modified Romberg Balance\, Walk and Turn\, One Leg Stand\, and Finger to Nose tests\, and using a person’s vital signs to provide information about the presence or absence of various categories of drugs. \nFor more information about the course or instructor\, please visit our website. If the registration deadline has passed or the class is full and you are interested in attending\, please email us at info@texasfriday.org or call 800-848-2088 x 207.
URL:https://texasfriday.org/event/ditep-2-day-training-el-paso-4/
LOCATION:Region 19 ESC Classroom PDN2\, 6611 Boeing Dr.\, El Paso\, 79925\, United States
ORGANIZER;CN="FRIDAY Staff":MAILTO:info@texasfriday.org
GEO:31.7925872;-106.3966058
X-APPLE-STRUCTURED-LOCATION;VALUE=URI;X-ADDRESS=Region 19 ESC Classroom PDN2 6611 Boeing Dr. El Paso 79925 United States;X-APPLE-RADIUS=500;X-TITLE=6611 Boeing Dr.:geo:-106.3966058,31.7925872
END:VEVENT
BEGIN:VEVENT
DTSTART;TZID=America/Chicago:20240130T080000
DTEND;TZID=America/Chicago:20240131T170000
DTSTAMP:20260425T143556
CREATED:20240115T193023Z
LAST-MODIFIED:20240118T164554Z
UID:10000784-1706601600-1706720400@texasfriday.org
SUMMARY:DITEP (2-Day Training) - Laredo
DESCRIPTION:The DITEP program is designed primarily for administrators\, teachers\, school resource officers\, counselors\, nurses and education trainers in the academic setting. This FREE two-day class will provide school personnel detailed information on how to recognize impairment\, evaluate the individual\, and address that impairment with parents. Along with that information\, there will be hands-on training in how to administer the Horizontal Gaze Nystagmus\, Vertical Gaze Nystagmus\, and Lack of Convergence tests\, eye examinations\, Divided Attention Testing such as the Modified Romberg Balance\, Walk and Turn\, One Leg Stand\, and Finger to Nose tests\, and using a person’s vital signs to provide information about the presence or absence of various categories of drugs.\nFor more information about the course or instructor\, please visit our website. If the registration deadline has passed or the class is full and you are interested in attending\, please email us at info@texasfriday.org or call 800-848-2088 x 207. \n  \n  \n 
URL:https://texasfriday.org/event/ditep-2-day-training-laredo-2/
LOCATION:Gateway Community Center Conference Room\, 1500 Pappas Street\, Laredo\, 78041\, United States
ORGANIZER;CN="Mark Busbee":MAILTO:Mark.Busbee@texasfriday.org
GEO:27.5369054;-99.4763823
X-APPLE-STRUCTURED-LOCATION;VALUE=URI;X-ADDRESS=Gateway Community Center Conference Room 1500 Pappas Street Laredo 78041 United States;X-APPLE-RADIUS=500;X-TITLE=1500 Pappas Street:geo:-99.4763823,27.5369054
END:VEVENT
BEGIN:VEVENT
DTSTART;TZID=America/Chicago:20240205T080000
DTEND;TZID=America/Chicago:20240206T160000
DTSTAMP:20260425T143556
CREATED:20231026T193058Z
LAST-MODIFIED:20231026T193221Z
UID:10000782-1707120000-1707235200@texasfriday.org
SUMMARY:DITEP (2-Day Training) - White Settlement
DESCRIPTION:The DITEP program is designed primarily for administrators\, teachers\, school resource officers\, counselors\, nurses and education trainers in the academic setting.   This FREE two-day class will provide school personnel detailed information on how to recognize impairment\, evaluate the individual\, and address that impairment with parents. Along with that information\, there will be hands-on training in how to administer the Horizontal Gaze Nystagmus\, Vertical Gaze Nystagmus\, and Lack of Convergence tests\, eye examinations\, Divided Attention Testing such as the Modified Romberg Balance\, Walk and Turn\, One Leg Stand\, and Finger to Nose tests\, and using a person’s vital signs to provide information about the presence or absence of various categories of drugs. TCOLE hours\, Nursing CEU certificates\, Continuing Professional Educator certificates\, and Addiction Professional certificates are available for this training. \nFor more information about the course or instructor\, please visit our website. If the registration deadline has passed or the class is full and you are interested in attending\, please email us at info@texasfriday.org or call 800-848-2088 x 207. \n  \n 
URL:https://texasfriday.org/event/ditep-2-day-training-white-settlement-4/
LOCATION:ESC Region 11\, 1451 S Cherry Lane\, White Settlement\, 76108\, United States
ORGANIZER;CN="FRIDAY Staff":MAILTO:info@texasfriday.org
GEO:32.7445998;-97.4473907
X-APPLE-STRUCTURED-LOCATION;VALUE=URI;X-ADDRESS=ESC Region 11 1451 S Cherry Lane White Settlement 76108 United States;X-APPLE-RADIUS=500;X-TITLE=1451 S Cherry Lane:geo:-97.4473907,32.7445998
END:VEVENT
BEGIN:VEVENT
DTSTART;TZID=America/Chicago:20240207T080000
DTEND;TZID=America/Chicago:20240207T160000
DTSTAMP:20260425T143556
CREATED:20231026T191151Z
LAST-MODIFIED:20240129T170248Z
UID:10000781-1707292800-1707321600@texasfriday.org
SUMMARY:DITEP - White Settlement-CANCELED
DESCRIPTION:THIS CLASS IS CANCELED! The DITEP program is designed primarily for administrators\, teachers\, school resource officers\, counselors\, nurses and education trainers in the academic setting.  This 8-hour course is meant for those who have previously attended the two-day training and need updated information and hands on practice with a DITEP trainer. TCOLE hours\, Nursing CEU certificates\, Continuing Professional Educator certificates\, and Addiction Professional certificates are available for this training. \nFor more information about the course or instructor\, please visit our website. If the registration deadline has passed or the class is full and you are interested in attending\, please email us at info@texasfriday.org or call 800-848-2088 x 207. \n  \n 
URL:https://texasfriday.org/event/ditep-white-settlement/
LOCATION:ESC Region 11\, 1451 S Cherry Lane\, White Settlement\, 76108\, United States
ORGANIZER;CN="FRIDAY Staff":MAILTO:info@texasfriday.org
GEO:32.7445998;-97.4473907
X-APPLE-STRUCTURED-LOCATION;VALUE=URI;X-ADDRESS=ESC Region 11 1451 S Cherry Lane White Settlement 76108 United States;X-APPLE-RADIUS=500;X-TITLE=1451 S Cherry Lane:geo:-97.4473907,32.7445998
END:VEVENT
BEGIN:VEVENT
DTSTART;TZID=America/Chicago:20240212T080000
DTEND;TZID=America/Chicago:20240212T170000
DTSTAMP:20260425T143556
CREATED:20230809T031547Z
LAST-MODIFIED:20230809T034825Z
UID:10000768-1707724800-1707757200@texasfriday.org
SUMMARY:DITEP-Universal City
DESCRIPTION:This class is for Judson ISD Personnel Only! The DITEP program is designed primarily for administrators\, teachers\, school resource officers\, counselors\, nurses and education trainers in the academic setting.  This 8-hour course is meant for those who have previously attended the two-day training and need updated information and hands on practice with a DITEP trainer. \nFor more information about the course or instructor\, please visit our website. If the registration deadline has passed or the class is full and you are interested in attending\, please email us at info@texasfriday.org or call 800-848-2088 x 207.
URL:https://texasfriday.org/event/ditep-universal-city/
LOCATION:Judson Early College Academy\, 8230 Palisades Drive\, Universal City\, TX\, 78148\, United States
ORGANIZER;CN="FRIDAY Staff":MAILTO:info@texasfriday.org
GEO:29.547935;-98.3260406
X-APPLE-STRUCTURED-LOCATION;VALUE=URI;X-ADDRESS=Judson Early College Academy 8230 Palisades Drive Universal City TX 78148 United States;X-APPLE-RADIUS=500;X-TITLE=8230 Palisades Drive:geo:-98.3260406,29.547935
END:VEVENT
BEGIN:VEVENT
DTSTART;TZID=America/Chicago:20240215T080000
DTEND;TZID=America/Chicago:20240216T160000
DTSTAMP:20260425T143556
CREATED:20230830T185430Z
LAST-MODIFIED:20240130T213220Z
UID:10000771-1707984000-1708099200@texasfriday.org
SUMMARY:DITEP (2-Day Training) - Wimberley-CANCELED
DESCRIPTION:THIS CLASS IS CANCELED\, BUT WILL BE RESCHEDULED AT A LATER DATE. The DITEP program is designed primarily for administrators\, teachers\, school resource officers\, counselors\, nurses and education trainers in the academic setting.   This FREE two-day class will provide school personnel detailed information on how to recognize impairment\, evaluate the individual\, and address that impairment with parents. Along with that information\, there will be hands-on training in how to administer the Horizontal Gaze Nystagmus\, Vertical Gaze Nystagmus\, and Lack of Convergence tests\, eye examinations\, Divided Attention Testing such as the Romberg Balance\, Walk and Turn\, One Leg Stand\, and Finger to Nose tests\, and using a person’s vital signs to provide information about the presence or absence of various categories of drugs. \nFor more information about the course or instructor\, please visit our website. If the registration deadline has passed or the class is full and you are interested in attending\, please email us at info@texasfriday.org or call 800-848-2088 x 207. \n 
URL:https://texasfriday.org/event/ditep-2-day-training-wimberley/
LOCATION:Texan Field House Classroom\, 199 Texan Blvd\, Wimberley\, 78676\, United States
ORGANIZER;CN="FRIDAY Staff":MAILTO:info@texasfriday.org
GEO:30.0038904;-98.1122817
X-APPLE-STRUCTURED-LOCATION;VALUE=URI;X-ADDRESS=Texan Field House Classroom 199 Texan Blvd Wimberley 78676 United States;X-APPLE-RADIUS=500;X-TITLE=199 Texan Blvd:geo:-98.1122817,30.0038904
END:VEVENT
BEGIN:VEVENT
DTSTART;TZID=America/Chicago:20240228T080000
DTEND;TZID=America/Chicago:20240229T170000
DTSTAMP:20260425T143556
CREATED:20240122T154224Z
LAST-MODIFIED:20240122T154910Z
UID:10000787-1709107200-1709226000@texasfriday.org
SUMMARY:DITEP (2-Day Training) - Huntsville
DESCRIPTION:The DITEP program is designed primarily for administrators\, teachers\, school resource officers\, counselors\, nurses and education trainers in the academic setting.   This FREE two-day class will provide school personnel detailed information on how to recognize impairment\, evaluate the individual\, and address that impairment with parents. Along with that information\, there will be hands-on training in how to administer the Horizontal Gaze Nystagmus\, Vertical Gaze Nystagmus\, and Lack of Convergence tests\, eye examinations\, Divided Attention Testing such as the Modified Romberg Balance\, Walk and Turn\, One Leg Stand\, and Finger to Nose tests\, and using a person’s vital signs to provide information about the presence or absence of various categories of drugs. \nFor more information about the course or instructor\, please visit our website. If the registration deadline has passed or the class is full and you are interested in attending\, please email us at info@texasfriday.org or call 800-848-2088 x 207. \n  \n  \n  \n 
URL:https://texasfriday.org/event/ditep-2-day-training-huntsville/
LOCATION:ESC Region 6\, 3332 Montgomery Road\, Huntsville\, TX\, 77340\, United States
ORGANIZER;CN="Juan Villarreal":MAILTO:juan.villarreal@txsfst.org
GEO:30° 42' 24.59" N;-95° 32' 32.39" W
X-APPLE-STRUCTURED-LOCATION;VALUE=URI;X-ADDRESS=ESC Region 6 3332 Montgomery Road Huntsville TX 77340 United States;X-APPLE-RADIUS=500;X-TITLE=3332 Montgomery Road:geo:-95° 32' 32.39" W,30° 42' 24.59" N
END:VEVENT
BEGIN:VEVENT
DTSTART;TZID=America/Chicago:20240228T080000
DTEND;TZID=America/Chicago:20240229T170000
DTSTAMP:20260425T143556
CREATED:20231215T163139Z
LAST-MODIFIED:20240209T204308Z
UID:10000597-1709107200-1709226000@texasfriday.org
SUMMARY:DITEP (2-Day Training) - Beaumont
DESCRIPTION:The DITEP program is designed primarily for administrators\, teachers\, school resource officers\, counselors\, nurses and education trainers in the academic setting.   This FREE two-day class will provide school personnel detailed information on how to recognize impairment\, evaluate the individual\, and address that impairment with parents. Along with that information\, there will be hands-on training in how to administer the Horizontal Gaze Nystagmus\, Vertical Gaze Nystagmus\, and Lack of Convergence tests\, eye examinations\, Divided Attention Testing such as the Modified Romberg Balance\, Walk and Turn\, One Leg Stand\, and Finger to Nose tests\, and using a person’s vital signs to provide information about the presence or absence of various categories of drugs. \nFor more information about the course or instructor\, please visit our website. If the registration deadline has passed or the class is full and you are interested in attending\, please email us at info@texasfriday.org or call 800-848-2088 x 207.
URL:https://texasfriday.org/event/ditep-2-day-training-beaumont-2/
LOCATION:Region 5 ESC -4th Floor Liberty Room\, 350 Pine Street\, Beaumont\, 77701\, United States
ORGANIZER;CN="FRIDAY Staff":MAILTO:info@texasfriday.org
GEO:30.0855104;-94.0972298
X-APPLE-STRUCTURED-LOCATION;VALUE=URI;X-ADDRESS=Region 5 ESC -4th Floor Liberty Room 350 Pine Street Beaumont 77701 United States;X-APPLE-RADIUS=500;X-TITLE=350 Pine Street:geo:-94.0972298,30.0855104
END:VEVENT
BEGIN:VEVENT
DTSTART;TZID=America/Chicago:20240305T080000
DTEND;TZID=America/Chicago:20240305T170000
DTSTAMP:20260425T143556
CREATED:20231214T221435Z
LAST-MODIFIED:20231214T221435Z
UID:10000594-1709625600-1709658000@texasfriday.org
SUMMARY:FRIDAY-Jersey Village
DESCRIPTION:The FRIDAY program is specifically designed to serve as continuing education for law enforcement officers. This 8-hour class includes topics such as the Alcoholic Beverage Code\, Alcohol’s Effect on Brain Development\, and Investigative Techniques/Enforcement Options related to underage drinking and underage impaired driving. Officers who successfully complete the course will receive 8 hours of TCOLE credit (#6017). \nFor more information about the course or instructor\, please visit our website. If the registration deadline has passed or the class is full and you are interested in attending\, please call (512) 659-8102 .
URL:https://texasfriday.org/event/friday-jersey-village/
LOCATION:DPS Regional HQ – Houston\, 12\,230 West Road\, Jersey Village\, 77065\, United States
ORGANIZER;CN="FRIDAY Staff":MAILTO:info@texasfriday.org
GEO:29.903953;-95.5978358
X-APPLE-STRUCTURED-LOCATION;VALUE=URI;X-ADDRESS=DPS Regional HQ – Houston 12230 West Road Jersey Village 77065 United States;X-APPLE-RADIUS=500;X-TITLE=12\,230 West Road:geo:-95.5978358,29.903953
END:VEVENT
BEGIN:VEVENT
DTSTART;TZID=America/Chicago:20240306T080000
DTEND;TZID=America/Chicago:20240307T170000
DTSTAMP:20260425T143556
CREATED:20240105T151738Z
LAST-MODIFIED:20240131T223048Z
UID:10000783-1709712000-1709830800@texasfriday.org
SUMMARY:DITEP (2-Day Training)-Cypress
DESCRIPTION:The DITEP program is designed primarily for administrators\, teachers\, school resource officers\, counselors\, nurses and education trainers in the academic setting.   This FREE two-day class will provide school personnel detailed information on how to recognize impairment\, evaluate the individual\, and address that impairment with parents. Along with that information\, there will be hands-on training in how to administer the Horizontal Gaze Nystagmus\, Vertical Gaze Nystagmus\, and Lack of Convergence tests\, eye examinations\, Divided Attention Testing such as the Modified Romberg Balance\, Walk and Turn\, One Leg Stand\, and Finger to Nose tests\, and using a person’s vital signs to provide information about the presence or absence of various categories of drugs. \nFor more information about the course or instructor\, please visit our website. If the registration deadline has passed or the class is full and you are interested in attending\, please email us at info@texasfriday.org or call 800-848-2088 x 207.
URL:https://texasfriday.org/event/ditep-2-day-training-cypress/
LOCATION:Cypress Fairbanks ISD PD\, 11200 Telge Rd\, Cypress\, TX\, 77429\, United States
ORGANIZER;CN="FRIDAY Staff":MAILTO:info@texasfriday.org
GEO:29.9386716;-95.6487117
X-APPLE-STRUCTURED-LOCATION;VALUE=URI;X-ADDRESS=Cypress Fairbanks ISD PD 11200 Telge Rd Cypress TX 77429 United States;X-APPLE-RADIUS=500;X-TITLE=11200 Telge Rd:geo:-95.6487117,29.9386716
END:VEVENT
END:VCALENDAR